BEGIN:VCALENDAR
VERSION:2.0
PRODID:-//Plone.org//NONSGML plone.app.event//EN
X-WR-TIMEZONE:Europe/Madrid
BEGIN:VEVENT
SUMMARY:Esdeveniment de mostra 2
DTSTART;TZID=Europe/Madrid:20241104T160000
DTEND;TZID=Europe/Madrid:20641025T160000
DTSTAMP:20260420T022655Z
UID:954eb75bb93e4904b546eb57d6caa3b9@cral.upc.edu
CONTACT:Responsable esdeveniment\, adreca@noreply.com
CREATED:20241104T152645Z
LAST-MODIFIED:20241104T152645Z
LOCATION:Lloc de l'esdeveniment
URL:https://cral.upc.edu/ca/esdeveniments/esdeveniment-de-mostra-2
END:VEVENT
BEGIN:VTIMEZONE
TZID:Europe/Madrid
X-LIC-LOCATION:Europe/Madrid
BEGIN:STANDARD
DTSTART:20241027T020000
TZNAME:CET
TZOFFSETFROM:+0200
TZOFFSETTO:+0100
END:STANDARD
BEGIN:STANDARD
DTSTART:20371025T020000
TZNAME:CET
TZOFFSETFROM:+0200
TZOFFSETTO:+0100
END:STANDARD
END:VTIMEZONE
END:VCALENDAR
