BEGIN:VCALENDAR
VERSION:2.0
PRODID:-//Plone.org//NONSGML plone.app.event//EN
X-WR-TIMEZONE:Europe/Madrid
BEGIN:VEVENT
SUMMARY:Sample event 3
DTSTART;TZID=Europe/Madrid:20241104T160000
DTEND;TZID=Europe/Madrid:20641025T160000
DTSTAMP:20260420T145449Z
UID:cfdf1401d1014113a728304743fc5a73@cral.upc.edu
CONTACT:Responsible for the event\, adreca@noreply.com
CREATED:20241104T152647Z
LAST-MODIFIED:20241104T152647Z
LOCATION:Place of the event
URL:https://cral.upc.edu/en/events/sample-event-3
END:VEVENT
BEGIN:VTIMEZONE
TZID:Europe/Madrid
X-LIC-LOCATION:Europe/Madrid
BEGIN:STANDARD
DTSTART:20241027T020000
TZNAME:CET
TZOFFSETFROM:+0200
TZOFFSETTO:+0100
END:STANDARD
BEGIN:STANDARD
DTSTART:20371025T020000
TZNAME:CET
TZOFFSETFROM:+0200
TZOFFSETTO:+0100
END:STANDARD
END:VTIMEZONE
END:VCALENDAR
