BEGIN:VCALENDAR
VERSION:2.0
PRODID:-//Plone.org//NONSGML plone.app.event//EN
X-WR-TIMEZONE:Europe/Madrid
BEGIN:VEVENT
SUMMARY:Evento de muestra 3
DTSTART;TZID=Europe/Madrid:20241104T160000
DTEND;TZID=Europe/Madrid:20641025T160000
DTSTAMP:20260421T002206Z
UID:c82a5fc5ad2749e6ac5122cbc179a59a@cral.upc.edu
CONTACT:Responsable del evento\, adreca@noreply.com
CREATED:20241104T152646Z
LAST-MODIFIED:20241104T152646Z
LOCATION:Lugar del evento
URL:https://cral.upc.edu/es/eventos/evento-de-muestra-3
END:VEVENT
BEGIN:VTIMEZONE
TZID:Europe/Madrid
X-LIC-LOCATION:Europe/Madrid
BEGIN:STANDARD
DTSTART:20241027T020000
TZNAME:CET
TZOFFSETFROM:+0200
TZOFFSETTO:+0100
END:STANDARD
BEGIN:STANDARD
DTSTART:20371025T020000
TZNAME:CET
TZOFFSETFROM:+0200
TZOFFSETTO:+0100
END:STANDARD
END:VTIMEZONE
END:VCALENDAR
